data_109032-ICSD
#©2008 by Fachinformationszentrum Karlsruhe, and the U.S. Secretary of 
#Commerce on behalf of the United States.  All rights reserved.
_database_code_ICSD                109032
_audit_creation_date               2007/04/01
_audit_update_record               2008/02/01
_chemical_name_systematic          'Gallium - Alpha'
_chemical_formula_structural       Ga
_chemical_formula_sum              Ga1
_publ_section_title
;
Alpha-gallium: An alternative to the boron structure
;
loop_
_citation_id
_citation_journal_abbrev
_citation_year
_citation_journal_volume
_citation_journal_issue
_citation_page_first
_citation_page_last
_citation_journal_id_ASTM
primary 'Acta Chemica Scandinavica (43,1989-)' 1991 45 8 870 872 ACHSE7
_publ_author_name                  'von Schnering, H.G.;Nesper, R.'
_cell_length_a                     4.519(2)
_cell_length_b                     7.658(3)
_cell_length_c                     4.526(2)
_cell_angle_alpha                  90.
_cell_angle_beta                   90.
_cell_angle_gamma                  90.
_cell_volume                       156.63
_cell_formula_units_Z              8
_symmetry_space_group_name_H-M     'C m c a'
_symmetry_Int_Tables_number        64
loop_
_symmetry_equiv_pos_site_id
_symmetry_equiv_pos_as_xyz
  1	'-x, -y+1/2, z+1/2'
  2	'-x, y+1/2, -z+1/2'
  3	'-x, y, z'
  4	'-x, -y, -z'
  5	'x, y+1/2, -z+1/2'
  6	'x, -y+1/2, z+1/2'
  7	'x, -y, -z'
  8	'x, y, z'
  9	'-x+1/2, -y, z+1/2'
 10	'-x+1/2, y, -z+1/2'
 11	'-x+1/2, y+1/2, z'
 12	'-x+1/2, -y+1/2, -z'
 13	'x+1/2, y, -z+1/2'
 14	'x+1/2, -y, z+1/2'
 15	'x+1/2, -y+1/2, -z'
 16	'x+1/2, y+1/2, z'
loop_
_atom_type_symbol
_atom_type_oxidation_number
Ga0+	0
loop_
_atom_site_label
_atom_site_type_symbol
_atom_site_symmetry_multiplicity
_atom_site_Wyckoff_symbol
_atom_site_fract_x
_atom_site_fract_y
_atom_site_fract_z
_atom_site_occupancy
_atom_site_attached_hydrogens
Ga1 Ga0+ 8 f 0 0.1549(6) 0.0806(8) 1. 0 

#End of data_109032-ICSD


