data_44791-ICSD
#©2008 by Fachinformationszentrum Karlsruhe, and the U.S. Secretary of 
#Commerce on behalf of the United States.  All rights reserved.
_database_code_ICSD                44791
_audit_creation_date               2000/12/16
_audit_update_record               2003/10/01
_chemical_name_systematic          'Cadmium Iodide'
_chemical_formula_structural       'Cd I2'
_chemical_formula_sum              'Cd1 I2'
_publ_section_title
;
Polytypism of cadmium iodide and its relationship to screw 
dislocations
;
loop_
_citation_id
_citation_journal_abbrev
_citation_year
_citation_journal_volume
_citation_page_first
_citation_page_last
_citation_journal_id_ASTM
primary
;
Zeitschrift fuer Kristallographie, Kristallgeometrie, Kristallphysik, 
Kristallchemie (-144,1977)
;
 1956 108 296 315 ZEKGAX
2 'National Bureau of Standards (U.S.), Special Publication'
 1969 301 233 236 XNBSAV
_publ_author_name                  'Mitchell, R.S.'
_cell_length_a                     4.24
_cell_length_b                     4.24
_cell_length_c                     6.835
_cell_angle_alpha                  90.
_cell_angle_beta                   90.
_cell_angle_gamma                  120.
_cell_volume                       106.41
_cell_formula_units_Z              1
_symmetry_space_group_name_H-M     'P -3 m 1'
_symmetry_Int_Tables_number        164
loop_
_symmetry_equiv_pos_site_id
_symmetry_equiv_pos_as_xyz
  1	'x-y, -y, -z'
  2	'-x, -x+y, -z'
  3	'y, x, -z'
  4	'x-y, x, -z'
  5	'y, -x+y, -z'
  6	'-x, -y, -z'
  7	'-x+y, y, z'
  8	'x, x-y, z'
  9	'-y, -x, z'
 10	'-x+y, -x, z'
 11	'-y, x-y, z'
 12	'x, y, z'
loop_
_atom_type_symbol
_atom_type_oxidation_number
Cd2+	2
I1-	-1
loop_
_atom_site_label
_atom_site_type_symbol
_atom_site_symmetry_multiplicity
_atom_site_Wyckoff_symbol
_atom_site_fract_x
_atom_site_fract_y
_atom_site_fract_z
_atom_site_occupancy
_atom_site_attached_hydrogens
Cd1 Cd2+ 1 a 0 0 0 1. 0 
I1 I1- 2 d 0.3333 0.6667 0.25 1. 0 

#End of data_44791-ICSD


